BEGIN:VCALENDAR
VERSION:2.0
PRODID:-//Plymouth Diving - ECPv6.7.1//NONSGML v1.0//EN
CALSCALE:GREGORIAN
METHOD:PUBLISH
X-ORIGINAL-URL:https://www.plymouthdiving.com
X-WR-CALDESC:Events for Plymouth Diving
REFRESH-INTERVAL;VALUE=DURATION:PT1H
X-Robots-Tag:noindex
X-PUBLISHED-TTL:PT1H
BEGIN:VTIMEZONE
TZID:Europe/London
BEGIN:DAYLIGHT
TZOFFSETFROM:+0000
TZOFFSETTO:+0100
TZNAME:BST
DTSTART:20230326T010000
END:DAYLIGHT
BEGIN:STANDARD
TZOFFSETFROM:+0100
TZOFFSETTO:+0000
TZNAME:GMT
DTSTART:20231029T010000
END:STANDARD
END:VTIMEZONE
BEGIN:VEVENT
DTSTART;TZID=Europe/London:20231021T080000
DTEND;TZID=Europe/London:20231023T170000
DTSTAMP:20260423T091943
CREATED:20231007T063727Z
LAST-MODIFIED:20231023T193241Z
UID:3867-1697875200-1698080400@www.plymouthdiving.com
SUMMARY:Southampton Invitational
DESCRIPTION:Invites from coaches have been sent out
URL:https://www.plymouthdiving.com/event/southampton-invitational-4/
LOCATION:The Quays Swimming & Diving Complex\, 27 Harbour Parade\, Southampton SO15 1BA\, Southampton\, United Kingdom
ATTACH;FMTTYPE=image/jpeg:https://www.plymouthdiving.com/wp-content/uploads/2023/10/IMG-20231022-WA0026.jpg
END:VEVENT
END:VCALENDAR